BEGIN:VCALENDAR
VERSION:2.0
PRODID:-//PEACE - ECPv6.15.18//NONSGML v1.0//EN
CALSCALE:GREGORIAN
METHOD:PUBLISH
X-WR-CALNAME:PEACE
X-ORIGINAL-URL:https://peacenurtureskids.org
X-WR-CALDESC:Events for PEACE
REFRESH-INTERVAL;VALUE=DURATION:PT1H
X-Robots-Tag:noindex
X-PUBLISHED-TTL:PT1H
BEGIN:VTIMEZONE
TZID:UTC
BEGIN:STANDARD
TZOFFSETFROM:+0000
TZOFFSETTO:+0000
TZNAME:UTC
DTSTART:20190101T000000
END:STANDARD
END:VTIMEZONE
BEGIN:VEVENT
DTSTART;VALUE=DATE:20201020
DTEND;VALUE=DATE:20201021
DTSTAMP:20260423T222435
CREATED:20201110T084908Z
LAST-MODIFIED:20201110T084908Z
UID:1923-1603152000-1603238399@peacenurtureskids.org
SUMMARY:Nurturing STEM-based Thinking  Using Parent-Child Interactions
DESCRIPTION:Nurturing STEM-based Thinking  Using Parent-Child Interactions
URL:https://peacenurtureskids.org/index.php/event/nurturing-stem-based-thinking-using-parent-child-interactions/
CATEGORIES:Events
ATTACH;FMTTYPE=image/png:https://peacenurtureskids.org/wp-content/uploads/2020/11/Santa-Maria.png
END:VEVENT
BEGIN:VEVENT
DTSTART;VALUE=DATE:20201017
DTEND;VALUE=DATE:20201018
DTSTAMP:20260423T222435
CREATED:20201110T084616Z
LAST-MODIFIED:20201110T084616Z
UID:1921-1602892800-1602979199@peacenurtureskids.org
SUMMARY:Social-Emotional Development of Infants  and Young Children
DESCRIPTION:Social-Emotional Development of Infants and Young Children
URL:https://peacenurtureskids.org/index.php/event/social-emotional-development-of-infants-and-young-children/
CATEGORIES:Events
ATTACH;FMTTYPE=image/png:https://peacenurtureskids.org/wp-content/uploads/2020/11/Alief.png
END:VEVENT
BEGIN:VEVENT
DTSTART;VALUE=DATE:20201013
DTEND;VALUE=DATE:20201014
DTSTAMP:20260423T222435
CREATED:20201109T085957Z
LAST-MODIFIED:20201109T090019Z
UID:1865-1602547200-1602633599@peacenurtureskids.org
SUMMARY:Relationship-building With Your Infants and Toddlers
DESCRIPTION:Relationship-building With Your Infants and Toddlers Playing Games
URL:https://peacenurtureskids.org/index.php/event/relationship-building-with-your-infants-and-toddlers/
CATEGORIES:Events
ATTACH;FMTTYPE=image/png:https://peacenurtureskids.org/wp-content/uploads/2020/11/Santa-Maria.png
END:VEVENT
BEGIN:VEVENT
DTSTART;VALUE=DATE:20201006
DTEND;VALUE=DATE:20201007
DTSTAMP:20260423T222435
CREATED:20201109T085433Z
LAST-MODIFIED:20201109T085433Z
UID:1863-1601942400-1602028799@peacenurtureskids.org
SUMMARY:Nurturing Social-Emotional Development of Children Positive Behavior Approaches
DESCRIPTION:Nurturing Social-Emotional Development of Children Positive Behavior Approaches
URL:https://peacenurtureskids.org/index.php/event/nurturing-social-emotional-development-of-children-positive-behavior-approaches/
CATEGORIES:Events
ATTACH;FMTTYPE=image/png:https://peacenurtureskids.org/wp-content/uploads/2020/11/Santa-Maria.png
END:VEVENT
BEGIN:VEVENT
DTSTART;VALUE=DATE:20201003
DTEND;VALUE=DATE:20201004
DTSTAMP:20260423T222435
CREATED:20201109T084938Z
LAST-MODIFIED:20201109T085901Z
UID:1861-1601683200-1601769599@peacenurtureskids.org
SUMMARY:Literacy and Language Stimulation Strategies
DESCRIPTION:Literacy and Language Stimulation Strategies
URL:https://peacenurtureskids.org/index.php/event/literacy-and-language-stimulation-strategies/
CATEGORIES:Events
ATTACH;FMTTYPE=image/png:https://peacenurtureskids.org/wp-content/uploads/2020/11/Alief.png
END:VEVENT
BEGIN:VEVENT
DTSTART;VALUE=DATE:20200929
DTEND;VALUE=DATE:20200930
DTSTAMP:20260423T222435
CREATED:20201109T084753Z
LAST-MODIFIED:20201109T084753Z
UID:1859-1601337600-1601423999@peacenurtureskids.org
SUMMARY:Taking Care of Infant’s Health\, Nutrition and General Well-being
DESCRIPTION:Taking Care of Infant’s Health\, Nutrition and General Well-being: Presented by a Pediatrician
URL:https://peacenurtureskids.org/index.php/event/taking-care-of-infants-health-nutrition-and-general-well-being/
CATEGORIES:Events
ATTACH;FMTTYPE=image/png:https://peacenurtureskids.org/wp-content/uploads/2020/11/Santa-Maria.png
END:VEVENT
BEGIN:VEVENT
DTSTART;VALUE=DATE:20200926
DTEND;VALUE=DATE:20200927
DTSTAMP:20260423T222435
CREATED:20201109T084224Z
LAST-MODIFIED:20201109T084224Z
UID:1856-1601078400-1601164799@peacenurtureskids.org
SUMMARY:Developmental Ages and Stages
DESCRIPTION:Developmental Ages and Stages Nurturing Your Baby’s Growing Brain
URL:https://peacenurtureskids.org/index.php/event/developmental-ages-and-stages-2/
CATEGORIES:Events
ATTACH;FMTTYPE=image/png:https://peacenurtureskids.org/wp-content/uploads/2020/11/Alief.png
END:VEVENT
BEGIN:VEVENT
DTSTART;VALUE=DATE:20200922
DTEND;VALUE=DATE:20200923
DTSTAMP:20260423T222435
CREATED:20201109T083524Z
LAST-MODIFIED:20201109T083543Z
UID:1854-1600732800-1600819199@peacenurtureskids.org
SUMMARY:Nurturing Your Baby’s Growing Brian
DESCRIPTION:Nurturing Your Baby’s Growing Brian \nSocial-Emotional development
URL:https://peacenurtureskids.org/index.php/event/nurturing-your-babys-growing-brian/
CATEGORIES:Events
ATTACH;FMTTYPE=image/png:https://peacenurtureskids.org/wp-content/uploads/2020/11/Santa-Maria.png
END:VEVENT
BEGIN:VEVENT
DTSTART;VALUE=DATE:20200908
DTEND;VALUE=DATE:20200909
DTSTAMP:20260423T222435
CREATED:20201109T083255Z
LAST-MODIFIED:20201109T083400Z
UID:1851-1599523200-1599609599@peacenurtureskids.org
SUMMARY:Nurture Growing Brain With a ‘Serve and Return’   Approach
DESCRIPTION:Nurture Growing Brain With a ‘Serve and Return’   Approach – Literacy and Cognitive Tips
URL:https://peacenurtureskids.org/index.php/event/nurture-growing-brain-with-a-serve-and-return-approach/
CATEGORIES:Events
ATTACH;FMTTYPE=image/png:https://peacenurtureskids.org/wp-content/uploads/2020/11/Santa-Maria.png
END:VEVENT
BEGIN:VEVENT
DTSTART;VALUE=DATE:20200901
DTEND;VALUE=DATE:20200902
DTSTAMP:20260423T222435
CREATED:20201109T074108Z
LAST-MODIFIED:20201109T074735Z
UID:1848-1598918400-1599004799@peacenurtureskids.org
SUMMARY:Developmental Ages and Stages
DESCRIPTION:Developmental Ages and Stages \nTips on “ How-To “ Promote  Baby’s Optimal Development
URL:https://peacenurtureskids.org/index.php/event/developmental-ages-and-stages/
CATEGORIES:Events
ATTACH;FMTTYPE=image/png:https://peacenurtureskids.org/wp-content/uploads/2020/11/Santa-Maria.png
END:VEVENT
BEGIN:VEVENT
DTSTART;TZID=UTC:20200218T090000
DTEND;TZID=UTC:20200218T110000
DTSTAMP:20260423T222435
CREATED:20191230T061549Z
LAST-MODIFIED:20200116T091816Z
UID:1376-1582016400-1582023600@peacenurtureskids.org
SUMMARY:Fostering Literacy and Language Development
DESCRIPTION:Nurturing Growing Mind: Fostering Literacy and Language Development
URL:https://peacenurtureskids.org/index.php/event/fostering-literacy-and-language-development/
LOCATION:Teen Parents-Pregnant Teens Program\, Alief ISD
END:VEVENT
BEGIN:VEVENT
DTSTART;TZID=UTC:20200214T140000
DTEND;TZID=UTC:20200214T150000
DTSTAMP:20260423T222435
CREATED:20170206T181516Z
LAST-MODIFIED:20200116T091904Z
UID:799-1581688800-1581692400@peacenurtureskids.org
SUMMARY:Learning Fair with multiple Learning Stations 
DESCRIPTION:Learning Fair with multiple Learning Stations (Literacy\, Math\, Science\, Chess\, etc.) Participants: 6-7-year-olds
URL:https://peacenurtureskids.org/index.php/event/discussing-the-importance/
LOCATION:Hope Through Housing
CATEGORIES:First Event
ORGANIZER;CN="Cindy Jefferson":MAILTO:info@yourwebsite.com
END:VEVENT
BEGIN:VEVENT
DTSTART;TZID=UTC:20200212T180000
DTEND;TZID=UTC:20200212T190000
DTSTAMP:20260423T222435
CREATED:20170118T135740Z
LAST-MODIFIED:20200116T092047Z
UID:398-1581530400-1581534000@peacenurtureskids.org
SUMMARY:Autism Series\, Seminar 2
DESCRIPTION:Autism Series\, Seminar 2 \nProviding Personalized Communication\, Academic and Social Supports to Address Child’s Needs
URL:https://peacenurtureskids.org/index.php/event/love-for-the-world/
LOCATION:India House
CATEGORIES:Events
ORGANIZER;CN="Cindy Jefferson":MAILTO:info@yourwebsite.com
END:VEVENT
BEGIN:VEVENT
DTSTART;TZID=UTC:20200122T100000
DTEND;TZID=UTC:20200122T110000
DTSTAMP:20260423T222435
CREATED:20170118T135615Z
LAST-MODIFIED:20200116T092220Z
UID:396-1579687200-1579690800@peacenurtureskids.org
SUMMARY:Promoting Your Child’s Growing Brain
DESCRIPTION:Birth-Two Developmental Stages and Promoting Your Child’s Growing Brain
URL:https://peacenurtureskids.org/index.php/event/setting-the-priorities/
LOCATION:Hope Through Housing
CATEGORIES:Events
ORGANIZER;CN="Cindy Jefferson":MAILTO:info@yourwebsite.com
END:VEVENT
BEGIN:VEVENT
DTSTART;TZID=UTC:20200121T090000
DTEND;TZID=UTC:20200121T110000
DTSTAMP:20260423T222435
CREATED:20170118T135332Z
LAST-MODIFIED:20200116T092440Z
UID:392-1579597200-1579604400@peacenurtureskids.org
SUMMARY:Nurturing the Growing Mind- workshop 1
DESCRIPTION:Nurturing the Growing Mind- workshop 1: Developmental Stages and Cognitive Stimulation
URL:https://peacenurtureskids.org/index.php/event/bringing-old-friends-together/
LOCATION:Teen Parents-Pregnant Teens Program\, Alief ISD
CATEGORIES:Events
END:VEVENT
BEGIN:VEVENT
DTSTART;TZID=UTC:20200115T180000
DTEND;TZID=UTC:20200115T190000
DTSTAMP:20260423T222435
CREATED:20170118T135051Z
LAST-MODIFIED:20200116T092521Z
UID:383-1579111200-1579114800@peacenurtureskids.org
SUMMARY:Autism Series\, Seminar 1
DESCRIPTION:Autism Series\, Seminar 1 \nUnderstanding Characteristics of Children with Autism Spectrum Disorders
URL:https://peacenurtureskids.org/index.php/event/is-a-nonprofit-internship-the-best-choice-for-you/
LOCATION:India House
CATEGORIES:Events
ORGANIZER;CN="Cindy Jefferson":MAILTO:info@yourwebsite.com
END:VEVENT
BEGIN:VEVENT
DTSTART;TZID=UTC:20200108T090000
DTEND;TZID=UTC:20200108T103000
DTSTAMP:20260423T222435
CREATED:20190108T140030Z
LAST-MODIFIED:20200116T092342Z
UID:390-1578474000-1578479400@peacenurtureskids.org
SUMMARY:Positive Behavior Approaches to Disciplining Children
DESCRIPTION:Positive Behavior Approaches to Disciplining Children: Ten Behavior Support Strategies
URL:https://peacenurtureskids.org/index.php/event/positive-behavior-approaches-to-disciplining-children-ten-behavior-support-strategies/
LOCATION:Patterson Elementary\, HISD\, United States
CATEGORIES:Events
END:VEVENT
END:VCALENDAR