BEGIN:VCALENDAR
VERSION:2.0
PRODID:-//PEACE - ECPv6.15.18//NONSGML v1.0//EN
CALSCALE:GREGORIAN
METHOD:PUBLISH
X-ORIGINAL-URL:https://peacenurtureskids.org
X-WR-CALDESC:Events for PEACE
REFRESH-INTERVAL;VALUE=DURATION:PT1H
X-Robots-Tag:noindex
X-PUBLISHED-TTL:PT1H
BEGIN:VTIMEZONE
TZID:America/New_York
BEGIN:DAYLIGHT
TZOFFSETFROM:-0500
TZOFFSETTO:-0400
TZNAME:EDT
DTSTART:20200308T070000
END:DAYLIGHT
BEGIN:STANDARD
TZOFFSETFROM:-0400
TZOFFSETTO:-0500
TZNAME:EST
DTSTART:20201101T060000
END:STANDARD
BEGIN:DAYLIGHT
TZOFFSETFROM:-0500
TZOFFSETTO:-0400
TZNAME:EDT
DTSTART:20210314T070000
END:DAYLIGHT
BEGIN:STANDARD
TZOFFSETFROM:-0400
TZOFFSETTO:-0500
TZNAME:EST
DTSTART:20211107T060000
END:STANDARD
BEGIN:DAYLIGHT
TZOFFSETFROM:-0500
TZOFFSETTO:-0400
TZNAME:EDT
DTSTART:20220313T070000
END:DAYLIGHT
BEGIN:STANDARD
TZOFFSETFROM:-0400
TZOFFSETTO:-0500
TZNAME:EST
DTSTART:20221106T060000
END:STANDARD
BEGIN:DAYLIGHT
TZOFFSETFROM:-0500
TZOFFSETTO:-0400
TZNAME:EDT
DTSTART:20230312T070000
END:DAYLIGHT
BEGIN:STANDARD
TZOFFSETFROM:-0400
TZOFFSETTO:-0500
TZNAME:EST
DTSTART:20231105T060000
END:STANDARD
BEGIN:DAYLIGHT
TZOFFSETFROM:-0500
TZOFFSETTO:-0400
TZNAME:EDT
DTSTART:20240310T070000
END:DAYLIGHT
BEGIN:STANDARD
TZOFFSETFROM:-0400
TZOFFSETTO:-0500
TZNAME:EST
DTSTART:20241103T060000
END:STANDARD
END:VTIMEZONE
BEGIN:VTIMEZONE
TZID:America/Chicago
BEGIN:DAYLIGHT
TZOFFSETFROM:-0600
TZOFFSETTO:-0500
TZNAME:CDT
DTSTART:20200308T080000
END:DAYLIGHT
BEGIN:STANDARD
TZOFFSETFROM:-0500
TZOFFSETTO:-0600
TZNAME:CST
DTSTART:20201101T070000
END:STANDARD
BEGIN:DAYLIGHT
TZOFFSETFROM:-0600
TZOFFSETTO:-0500
TZNAME:CDT
DTSTART:20210314T080000
END:DAYLIGHT
BEGIN:STANDARD
TZOFFSETFROM:-0500
TZOFFSETTO:-0600
TZNAME:CST
DTSTART:20211107T070000
END:STANDARD
BEGIN:DAYLIGHT
TZOFFSETFROM:-0600
TZOFFSETTO:-0500
TZNAME:CDT
DTSTART:20220313T080000
END:DAYLIGHT
BEGIN:STANDARD
TZOFFSETFROM:-0500
TZOFFSETTO:-0600
TZNAME:CST
DTSTART:20221106T070000
END:STANDARD
BEGIN:DAYLIGHT
TZOFFSETFROM:-0600
TZOFFSETTO:-0500
TZNAME:CDT
DTSTART:20230312T080000
END:DAYLIGHT
BEGIN:STANDARD
TZOFFSETFROM:-0500
TZOFFSETTO:-0600
TZNAME:CST
DTSTART:20231105T070000
END:STANDARD
END:VTIMEZONE
BEGIN:VEVENT
DTSTART;TZID=America/New_York:20230126T170000
DTEND;TZID=America/New_York:20230126T190000
DTSTAMP:20260423T141151
CREATED:20230316T025031Z
LAST-MODIFIED:20230316T025546Z
UID:2311-1674752400-1674759600@peacenurtureskids.org
SUMMARY:Activity Demonstrations: Literacy-Building and Social-Emotional Stations
DESCRIPTION:Parent and child engage together in making take-home tools\nPEACE Partners with Lamar CISD Family Event
URL:https://peacenurtureskids.org/index.php/event/activity-demonstrations-literacy-building-and-social-emotional-stations/
LOCATION:Velasquez Elementary School\, 402 Macek Rd\, Richmond\, TX\, 77469\, United States
END:VEVENT
BEGIN:VEVENT
DTSTART;TZID=America/New_York:20221129T171500
DTEND;TZID=America/New_York:20221129T181500
DTSTAMP:20260423T141151
CREATED:20230320T165034Z
LAST-MODIFIED:20230320T165034Z
UID:2371-1669742100-1669745700@peacenurtureskids.org
SUMMARY:Nurturing the Growing Mind Session 8: Strengthening Executive Function Skills
DESCRIPTION:
URL:https://peacenurtureskids.org/index.php/event/nurturing-the-growing-mind-session-8-strengthening-executive-function-skills-2/
END:VEVENT
BEGIN:VEVENT
DTSTART;TZID=America/New_York:20221115T171500
DTEND;TZID=America/New_York:20221115T181500
DTSTAMP:20260423T141151
CREATED:20230320T164942Z
LAST-MODIFIED:20230320T164942Z
UID:2369-1668532500-1668536100@peacenurtureskids.org
SUMMARY:Nurturing the Growing Mind Session 7: Storytelling Techniques to Build Attention\, Memory\, and Imagination
DESCRIPTION:
URL:https://peacenurtureskids.org/index.php/event/nurturing-the-growing-mind-session-7-storytelling-techniques-to-build-attention-memory-and-imagination-2/
END:VEVENT
BEGIN:VEVENT
DTSTART;TZID=America/New_York:20221108T171500
DTEND;TZID=America/New_York:20221108T181500
DTSTAMP:20260423T141151
CREATED:20230320T164900Z
LAST-MODIFIED:20230320T165131Z
UID:2367-1667927700-1667931300@peacenurtureskids.org
SUMMARY:Nurturing the Growing Mind Session 6: STEM-focused Activities to Stimulate Curiosity\, Imagination and Problem-solving Skills
DESCRIPTION:
URL:https://peacenurtureskids.org/index.php/event/nurturing-the-growing-mind-session-6-stem-focused-activities-to-stimulate-curiosity-imagination-and-problem-solving-skills-2/
END:VEVENT
BEGIN:VEVENT
DTSTART;TZID=America/New_York:20221101T171500
DTEND;TZID=America/New_York:20221101T181500
DTSTAMP:20260423T141151
CREATED:20230320T164804Z
LAST-MODIFIED:20230320T165147Z
UID:2365-1667322900-1667326500@peacenurtureskids.org
SUMMARY:Nurturing the Growing Mind Session 5: Tantrum\, Tantrum\, Go Away! Calm-down\, Calm-down\, Come My Way! - Cultivating Self-regulation Skills
DESCRIPTION:
URL:https://peacenurtureskids.org/index.php/event/nurturing-the-growing-mind-session-5-tantrum-tantrum-go-away-calm-down-calm-down-come-my-way-cultivating-self-regulation-skills-2/
END:VEVENT
BEGIN:VEVENT
DTSTART;TZID=America/New_York:20221025T171500
DTEND;TZID=America/New_York:20221025T181500
DTSTAMP:20260423T141151
CREATED:20230320T164722Z
LAST-MODIFIED:20230320T165314Z
UID:2363-1666718100-1666721700@peacenurtureskids.org
SUMMARY:Nurturing the Growing Mind Session 4: Cultivating Social-Emotional Development of Children: Pursuing Positive Behavior Approaches
DESCRIPTION:
URL:https://peacenurtureskids.org/index.php/event/nurturing-the-growing-mind-session-4-cultivating-social-emotional-development-of-children-pursuing-positive-behavior-approaches-2/
END:VEVENT
BEGIN:VEVENT
DTSTART;TZID=America/New_York:20221018T171500
DTEND;TZID=America/New_York:20221018T181500
DTSTAMP:20260423T141151
CREATED:20230320T164625Z
LAST-MODIFIED:20230320T165243Z
UID:2361-1666113300-1666116900@peacenurtureskids.org
SUMMARY:Nurturing the Growing Mind Session 3: Developmental Ages and Stages: 'How-To' Strengthen Language Development
DESCRIPTION:
URL:https://peacenurtureskids.org/index.php/event/nurturing-the-growing-mind-session-3-developmental-ages-and-stages-how-to-strengthen-language-development-2/
END:VEVENT
BEGIN:VEVENT
DTSTART;TZID=America/New_York:20221011T171500
DTEND;TZID=America/New_York:20221011T181500
DTSTAMP:20260423T141151
CREATED:20230320T164543Z
LAST-MODIFIED:20230320T164543Z
UID:2359-1665508500-1665512100@peacenurtureskids.org
SUMMARY:Nurturing the Growing Mind Session 2: Developmental Ages and Stages: 'How-To' Strengthen Cognitive Development
DESCRIPTION:
URL:https://peacenurtureskids.org/index.php/event/nurturing-the-growing-mind-session-2-developmental-ages-and-stages-how-to-strengthen-cognitive-development-2/
END:VEVENT
BEGIN:VEVENT
DTSTART;TZID=America/New_York:20221004T171500
DTEND;TZID=America/New_York:20221004T181500
DTSTAMP:20260423T141151
CREATED:20230320T164447Z
LAST-MODIFIED:20230320T164447Z
UID:2357-1664903700-1664907300@peacenurtureskids.org
SUMMARY:Nurturing the Growing Mind Session 1: The Science of Early Childhood Brain Development: Bonding\, Relationship-building\, and Nurturing
DESCRIPTION:
URL:https://peacenurtureskids.org/index.php/event/nurturing-the-growing-mind-session-1-the-science-of-early-childhood-brain-development-bonding-relationship-building-and-nurturing-2/
END:VEVENT
BEGIN:VEVENT
DTSTART;TZID=America/New_York:20220418T171500
DTEND;TZID=America/New_York:20220419T181500
DTSTAMP:20260423T141151
CREATED:20220322T223844Z
LAST-MODIFIED:20220322T223844Z
UID:2209-1650302100-1650392100@peacenurtureskids.org
SUMMARY:Nurturing the Growing Mind Session 8: Strengthening Executive Function Skills
DESCRIPTION:Series focused on children – birth to five years – is offered at no-cost.\nAudience: Parents\, Caregivers and Early Childhood Educators\nTo register: Send an email to pps4peace@yahoo.com or call 832-415-3088.
URL:https://peacenurtureskids.org/index.php/event/nurturing-the-growing-mind-session-8-strengthening-executive-function-skills/
END:VEVENT
BEGIN:VEVENT
DTSTART;TZID=America/New_York:20220412T171500
DTEND;TZID=America/New_York:20220412T181500
DTSTAMP:20260423T141151
CREATED:20220322T223742Z
LAST-MODIFIED:20220322T223742Z
UID:2207-1649783700-1649787300@peacenurtureskids.org
SUMMARY:Nurturing the Growing Mind Session 7: Storytelling Techniques to Build Attention\, Memory\, and Imagination
DESCRIPTION:Series focused on children – birth to five years – is offered at no-cost.\nAudience: Parents\, Caregivers and Early Childhood Educators\nTo register: Send an email to pps4peace@yahoo.com or call 832-415-3088.
URL:https://peacenurtureskids.org/index.php/event/nurturing-the-growing-mind-session-7-storytelling-techniques-to-build-attention-memory-and-imagination/
END:VEVENT
BEGIN:VEVENT
DTSTART;TZID=America/New_York:20220405T171500
DTEND;TZID=America/New_York:20220405T181500
DTSTAMP:20260423T141151
CREATED:20220322T223558Z
LAST-MODIFIED:20220322T223558Z
UID:2205-1649178900-1649182500@peacenurtureskids.org
SUMMARY:Nurturing the Growing Mind Session 6: STEM-focused Activities to Stimulate Curiosity\, Imagination and Problem-solving Skills
DESCRIPTION:Series focused on children – birth to five years – is offered at no-cost.\nAudience: Parents\, Caregivers and Early Childhood Educators\nTo register: Send an email to pps4peace@yahoo.com or call 832-415-3088.
URL:https://peacenurtureskids.org/index.php/event/nurturing-the-growing-mind-session-6-stem-focused-activities-to-stimulate-curiosity-imagination-and-problem-solving-skills/
END:VEVENT
BEGIN:VEVENT
DTSTART;TZID=America/New_York:20220329T171500
DTEND;TZID=America/New_York:20220329T181500
DTSTAMP:20260423T141151
CREATED:20220322T223442Z
LAST-MODIFIED:20220322T223442Z
UID:2203-1648574100-1648577700@peacenurtureskids.org
SUMMARY:Nurturing the Growing Mind Session 5: Tantrum\, Tantrum\, Go Away! Calm-down\, Calm-down\, Come My Way! Cultivating Self-Regulation Skills
DESCRIPTION:Series focused on children – birth to five years – is offered at no-cost.\nAudience: Parents\, Caregivers and Early Childhood Educators\nTo register: Send an email to pps4peace@yahoo.com or call 832-415-3088.
URL:https://peacenurtureskids.org/index.php/event/nurturing-the-growing-mind-session-5-tantrum-tantrum-go-away-calm-down-calm-down-come-my-way-cultivating-self-regulation-skills/
END:VEVENT
BEGIN:VEVENT
DTSTART;TZID=America/New_York:20220322T171500
DTEND;TZID=America/New_York:20220322T181500
DTSTAMP:20260423T141151
CREATED:20220322T223304Z
LAST-MODIFIED:20220322T223304Z
UID:2201-1647969300-1647972900@peacenurtureskids.org
SUMMARY:Nurturing the Growing Mind Session 4: Cultivating Social-Emotional Development of Children: Pursuing Positive Behavior Approaches
DESCRIPTION:Series focused on children – birth to five years – is offered at no-cost.\nAudience: Parents\, Caregivers and Early Childhood Educators\nTo register: Send an email to pps4peace@yahoo.com or call 832-415-3088.
URL:https://peacenurtureskids.org/index.php/event/nurturing-the-growing-mind-session-4-cultivating-social-emotional-development-of-children-pursuing-positive-behavior-approaches/
END:VEVENT
BEGIN:VEVENT
DTSTART;TZID=America/New_York:20220315T171500
DTEND;TZID=America/New_York:20220315T181500
DTSTAMP:20260423T141151
CREATED:20220322T223109Z
LAST-MODIFIED:20220322T223109Z
UID:2199-1647364500-1647368100@peacenurtureskids.org
SUMMARY:Nurturing the Growing Mind Session 3: Developmental Ages and Stages: ‘How-To’ Strengthen Language Development
DESCRIPTION:Series focused on children – birth to five years – is offered at no-cost.\nAudience: Parents\, Caregivers and Early Childhood Educators\nTo register: Send an email to pps4peace@yahoo.com or call 832-415-3088.
URL:https://peacenurtureskids.org/index.php/event/nurturing-the-growing-mind-session-3-developmental-ages-and-stages-how-to-strengthen-language-development/
END:VEVENT
BEGIN:VEVENT
DTSTART;TZID=America/New_York:20220308T171500
DTEND;TZID=America/New_York:20220308T181500
DTSTAMP:20260423T141151
CREATED:20220322T222943Z
LAST-MODIFIED:20220322T222943Z
UID:2197-1646759700-1646763300@peacenurtureskids.org
SUMMARY:Nurturing the Growing Mind Session 2: Developmental Ages and Stages: ‘How-To’ Strengthen Cognitive Development
DESCRIPTION:Series focused on children – birth to five years – is offered at no-cost.\nAudience: Parents\, Caregivers and Early Childhood Educators\nTo register: Send an email to pps4peace@yahoo.com or call 832-415-3088.
URL:https://peacenurtureskids.org/index.php/event/nurturing-the-growing-mind-session-2-developmental-ages-and-stages-how-to-strengthen-cognitive-development/
END:VEVENT
BEGIN:VEVENT
DTSTART;TZID=America/New_York:20220301T171500
DTEND;TZID=America/New_York:20220301T181500
DTSTAMP:20260423T141151
CREATED:20220322T222801Z
LAST-MODIFIED:20220322T223007Z
UID:2194-1646154900-1646158500@peacenurtureskids.org
SUMMARY:Nurturing the Growing Mind Session 1: The Science of Early Childhood Brain Development Bonding\, Relationship-building\, and Nurturing
DESCRIPTION:Series focused on children – birth to five years – is offered at no-cost.\nAudience: Parents\, Caregivers and Early Childhood Educators\nTo register: Send an email to pps4peace@yahoo.com or call 832-415-3088.
URL:https://peacenurtureskids.org/index.php/event/nurturing-the-growing-mind-session-1-the-science-of-early-childhood-brain-development-bonding-relationship-building-and-nurturing/
END:VEVENT
BEGIN:VEVENT
DTSTART;TZID=America/New_York:20220224T170000
DTEND;TZID=America/New_York:20220224T180000
DTSTAMP:20260423T141151
CREATED:20211025T204918Z
LAST-MODIFIED:20211025T204918Z
UID:2166-1645722000-1645725600@peacenurtureskids.org
SUMMARY:Partnering with Lamar CISD\, PEACE presents: Improve Test Taking Skills by Pursing STEM- Based Thinking and Activities
DESCRIPTION:
URL:https://peacenurtureskids.org/index.php/event/partnering-with-lamar-cisd-peace-presents-improve-test-taking-skills-by-pursing-stem-based-thinking-and-activities/
END:VEVENT
BEGIN:VEVENT
DTSTART;TZID=America/New_York:20220210T170000
DTEND;TZID=America/New_York:20220210T180000
DTSTAMP:20260423T141151
CREATED:20211025T204824Z
LAST-MODIFIED:20211025T204824Z
UID:2164-1644512400-1644516000@peacenurtureskids.org
SUMMARY:Partnering with Lamar CISD\, PEACE presents: Helping My Child with Math
DESCRIPTION:
URL:https://peacenurtureskids.org/index.php/event/partnering-with-lamar-cisd-peace-presents-helping-my-child-with-math/
END:VEVENT
BEGIN:VEVENT
DTSTART;TZID=America/New_York:20220209T180000
DTEND;TZID=America/New_York:20220209T190000
DTSTAMP:20260423T141151
CREATED:20220117T172558Z
LAST-MODIFIED:20220117T172558Z
UID:2183-1644429600-1644433200@peacenurtureskids.org
SUMMARY:Upside of Anxiety (Baby Conference -Partnership with First Three Years)
DESCRIPTION:We will take a look at what anxiety is\, how it affects children\, and how we can help our children work with their anxiety through a different lens in order to help them grow and be successful.
URL:https://peacenurtureskids.org/index.php/event/upside-of-anxiety-baby-conference-partnership-with-first-three-years/
END:VEVENT
BEGIN:VEVENT
DTSTART;TZID=America/New_York:20220208T173000
DTEND;TZID=America/New_York:20220208T183000
DTSTAMP:20260423T141151
CREATED:20220117T172443Z
LAST-MODIFIED:20220117T172443Z
UID:2181-1644341400-1644345000@peacenurtureskids.org
SUMMARY:Strengthening Executive Function Skills (Baby Conference -Partnership with First Three Years)
DESCRIPTION:Children need executive function and self-regulation — able to focus\, hold\, and work with information in mind\, filter distractions\, switch gears and exercise self-control — for school readiness and academic success.  In this session\, parents\, caregivers\, and educators will learn strategies to foster children’s executive functioning growth.
URL:https://peacenurtureskids.org/index.php/event/strengthening-executive-function-skills-baby-conference-partnership-with-first-three-years/
END:VEVENT
BEGIN:VEVENT
DTSTART;TZID=America/New_York:20220113T170000
DTEND;TZID=America/New_York:20220113T180000
DTSTAMP:20260423T141151
CREATED:20211025T204727Z
LAST-MODIFIED:20211025T204727Z
UID:2162-1642093200-1642096800@peacenurtureskids.org
SUMMARY:Partnering with Lamar CISD\, PEACE presents: Improving My Child’s Reading Skills
DESCRIPTION:
URL:https://peacenurtureskids.org/index.php/event/partnering-with-lamar-cisd-peace-presents-improving-my-childs-reading-skills/
END:VEVENT
BEGIN:VEVENT
DTSTART;TZID=America/Chicago:20220111T170000
DTEND;TZID=America/Chicago:20220111T180000
DTSTAMP:20260423T141151
CREATED:20210820T162134Z
LAST-MODIFIED:20210821T001759Z
UID:2124-1641920400-1641924000@peacenurtureskids.org
SUMMARY:Strengthening Executive Function Skills - Session 8
DESCRIPTION:Children need executive function and self-control skills — able to focus\, hold\, and work with information in mind\, filter distractions\, switch gears and exercise self-control — for school readiness and academic success. In this session\, parents\, caregivers\, and educators will learn strategies to foster children’s executive functioning growth. \nFocus: Birth to Five Years
URL:https://peacenurtureskids.org/index.php/event/strengthening-executive-function-skills/
END:VEVENT
BEGIN:VEVENT
DTSTART;TZID=America/Chicago:20211214T170000
DTEND;TZID=America/Chicago:20211214T180000
DTSTAMP:20260423T141151
CREATED:20210820T151759Z
LAST-MODIFIED:20210821T001718Z
UID:2122-1639501200-1639504800@peacenurtureskids.org
SUMMARY:Storytelling Techniques to Build Attention\, Memory\, and Imagination - Session 7
DESCRIPTION:The session demonstrates how-to-use creative storytelling techniques to captivate and sustain children’s attention. With combining action and expression during storytelling\, you can spark children’s imagination\, strengthen their focused attention\, and increase their language development. Participants will receive a resource list of book suggestions along with related activities associated with several of the books. \nFocus: Birth to Five Years
URL:https://peacenurtureskids.org/index.php/event/storytelling-techniques-to-build-attention-memory-and-imagination/
END:VEVENT
BEGIN:VEVENT
DTSTART;TZID=America/New_York:20211207T170000
DTEND;TZID=America/New_York:20211207T180000
DTSTAMP:20260423T141151
CREATED:20211025T204557Z
LAST-MODIFIED:20211025T204557Z
UID:2160-1638896400-1638900000@peacenurtureskids.org
SUMMARY:Partnering with Lamar CISD\, PEACE presents: Helping Your Child Succeed in School by Strengthening Executive Function and Self Control Skills
DESCRIPTION:
URL:https://peacenurtureskids.org/index.php/event/partnering-with-lamar-cisd-peace-presents-helping-your-child-succeed-in-school-by-strengthening-executive-function-and-self-control-skills/
END:VEVENT
BEGIN:VEVENT
DTSTART;TZID=America/Chicago:20211130T170000
DTEND;TZID=America/Chicago:20211130T180000
DTSTAMP:20260423T141151
CREATED:20210820T151656Z
LAST-MODIFIED:20210821T001625Z
UID:2120-1638291600-1638295200@peacenurtureskids.org
SUMMARY:STEM-focused Activities to Stimulate Curiosity\, Imagination and Problem-solving Skills - Session 6
DESCRIPTION:Young children\, full of curiosity\, like to experiment\, explore\, and discover the world around them. STEM-based (Science\, technology\, engineering\, and math) thinking makes them better problem-solvers and discovery learners. This hands-on session will demonstrate a variety of enriching activities that parents/caregivers and educators can use to stimulate young children’s discovery\, problem-solving\, making predictions\, and critical thinking skills. \nFocus: Birth to Five Years
URL:https://peacenurtureskids.org/index.php/event/stem-focused-activities-to-stimulate-curiosity-imagination-and-problem-solving-skills/
END:VEVENT
BEGIN:VEVENT
DTSTART;TZID=America/New_York:20211116T170000
DTEND;TZID=America/New_York:20211116T180000
DTSTAMP:20260423T141151
CREATED:20211025T204449Z
LAST-MODIFIED:20211025T205020Z
UID:2158-1637082000-1637085600@peacenurtureskids.org
SUMMARY:Partnering with Lamar CISD\, PEACE presents: Happy\, Healthy Teens
DESCRIPTION:
URL:https://peacenurtureskids.org/index.php/event/partnering-with-lamar-cisd-peace-presents-happy-healthy-teens/
END:VEVENT
BEGIN:VEVENT
DTSTART;TZID=America/Chicago:20211109T170000
DTEND;TZID=America/Chicago:20211109T180000
DTSTAMP:20260423T141151
CREATED:20210820T151455Z
LAST-MODIFIED:20210821T001600Z
UID:2118-1636477200-1636480800@peacenurtureskids.org
SUMMARY:Tantrum\, Tantrum\, Go Away! Calm-down\, Calm-down\, Come My Way!  Cultivating Self-regulation Skills - Session 5
DESCRIPTION:Learn simple and easy-to-use strategies on how to respond to young children’s tantrums using Calmness\, Caring and Choices. Augmented with a variety of behavior scenarios\, the session will illustrate how to use problem-solving and positive approaches to address problem behaviors of children and strengthen their social-emotional competence and self-regulation skills. Adults will learn how to model self-regulation and calmness when confronting children’s problem behaviors. \nFocus: Birth to Five Years
URL:https://peacenurtureskids.org/index.php/event/tantrum-tantrum-go-away-calm-down-calm-down-come-my-way-cultivating-self-regulation-skills/
END:VEVENT
BEGIN:VEVENT
DTSTART;TZID=America/Chicago:20211026T170000
DTEND;TZID=America/Chicago:20211026T180000
DTSTAMP:20260423T141151
CREATED:20210820T151154Z
LAST-MODIFIED:20210821T001544Z
UID:2116-1635267600-1635271200@peacenurtureskids.org
SUMMARY:Cultivating Social-Emotional Development of Children: Pursuing Positive Behavior Approaches - Session 4
DESCRIPTION:Parents\, caregivers\, and educators will learn how to foster children’s social-emotional development critical for school and life success. Using a variety of behavior scenarios\, the session will engage participants in a discussion on how to use problem-solving and positive approaches to cultivate children’s social-emotional competence. \nFocus: Birth to Three Years
URL:https://peacenurtureskids.org/index.php/event/cultivating-social-emotional-development-of-children-pursuing-positive-behavior-approaches/
END:VEVENT
BEGIN:VEVENT
DTSTART;TZID=America/Chicago:20211012T170000
DTEND;TZID=America/Chicago:20211012T180000
DTSTAMP:20260423T141151
CREATED:20210820T150518Z
LAST-MODIFIED:20210821T001528Z
UID:2113-1634058000-1634061600@peacenurtureskids.org
SUMMARY:Developmental Ages and Stages: ‘How-To’ Strengthen Cognitive and Language Development - Session 3
DESCRIPTION:The sessions will discuss the various stages of a child’s development during the first 3 years and the associated milestones. Sessions 2 and 3 will demonstrates brain-boosting activities based on the science of brain development to strengthen children’s attention\, memory and thinking skills (cognitive development) at each stage of development. Participants will also learn how to actively engage with the children to stimulate a child’ language growth and build communication skills using routine activities at home and also while on-the-go. \nFocus: Birth to Three Years
URL:https://peacenurtureskids.org/index.php/event/developmental-ages-and-stages-how-to-strengthen-cognitive-and-language-development-2/
END:VEVENT
END:VCALENDAR